BEGIN:VCALENDAR
VERSION:2.0
PRODID:icalendar-ruby
CALSCALE:GREGORIAN
METHOD:PUBLISH
BEGIN:VEVENT
DTSTAMP:20260420T231416Z
UID:5-400655@numinoustimes.tithelysetup2.com
DTSTART:20261025T170000Z
DTEND:20261025T180000Z
CLASS:PUBLIC
CREATED:20260420T155405
DESCRIPTION:Sunday Worship
LAST-MODIFIED:20260420T155405
LOCATION:
SUMMARY:Sunday Worship
URL;VALUE=URI:https://numinoustimes.tithelysetup2.com/events/sunday-worship
 /2026-10-25
END:VEVENT
END:VCALENDAR
