BEGIN:VCALENDAR
VERSION:2.0
PRODID:icalendar-ruby
CALSCALE:GREGORIAN
METHOD:PUBLISH
BEGIN:VEVENT
DTSTAMP:20260420T213554Z
UID:5-400393@numinoustimes.tithelysetup2.com
DTSTART:20261018T170000Z
DTEND:20261018T180000Z
CLASS:PUBLIC
CREATED:20260420T131841
DESCRIPTION:Sunday Worship
LAST-MODIFIED:20260420T131841
LOCATION:
SUMMARY:Sunday Worship
URL;VALUE=URI:https://numinoustimes.tithelysetup2.com/events/sunday-worship
 /2026-10-18
END:VEVENT
END:VCALENDAR
