BEGIN:VCALENDAR
VERSION:2.0
PRODID:icalendar-ruby
CALSCALE:GREGORIAN
METHOD:PUBLISH
BEGIN:VEVENT
DTSTAMP:20260420T182653Z
UID:5-400130@numinoustimes.tithelysetup2.com
DTSTART:20261004T170000Z
DTEND:20261004T180000Z
CLASS:PUBLIC
CREATED:20260420T104313
DESCRIPTION:Sunday Worship
LAST-MODIFIED:20260420T104313
LOCATION:
SUMMARY:Sunday Worship
URL;VALUE=URI:https://numinoustimes.tithelysetup2.com/events/sunday-worship
 /2026-10-04
END:VEVENT
END:VCALENDAR
